BEGIN:VCALENDAR
VERSION:2.0
PRODID:-//Tukios.com/
BEGIN:VEVENT
UID:422058d0-5504-4899-a41c-0df251bcec8f@www.cozine.com
DTSTAMP:20260424T222748Z
DTSTART:20260428T190000Z
DTEND:20260428T200000Z
SUMMARY:Memorial Service
DESCRIPTION:
URL:https://www.cozine.com/obituaries/donna-warden
LOCATION:Glenn Park Christian Church 2757 S Glenn Ave  Wichita KS 67217
GEO:37.6446748;-97.3621718
END:VEVENT
END:VCALENDAR