BEGIN:VCALENDAR
VERSION:2.0
PRODID:-//Tukios.com/
BEGIN:VEVENT
UID:16d0b050-0dd9-4bd3-bde1-7572ac306fb1@www.cozine.com
DTSTAMP:20260423T083317Z
DTSTART:20260427T190000Z
DTEND:20260427T200000Z
SUMMARY:Graveside Service
DESCRIPTION:
URL:https://www.cozine.com/obituaries/stanley-kappleman
LOCATION:Kansas Veterans' Cemetery 1208 N. College  Winfield KS 67156
GEO:37.2604497;-96.9783694
END:VEVENT
END:VCALENDAR