BEGIN:VCALENDAR
VERSION:2.0
PRODID:-//Tukios.com/
BEGIN:VEVENT
UID:34720cb1-40db-43fe-a86f-0492e10429aa@www.cozine.com
DTSTAMP:20260424T231600Z
DTSTART:20260504T210000Z
DTEND:20260505T010000Z
SUMMARY:Visitation with Family
DESCRIPTION:
URL:https://www.cozine.com/obituaries/tam-nguyen-2026
LOCATION:Cozine Life Events Center 11500 E. 21st St. N.  Wichita KS 67206
GEO:37.7243259;-97.2050381
END:VEVENT
END:VCALENDAR