BEGIN:VCALENDAR
VERSION:2.0
PRODID:-//Tukios.com/
BEGIN:VEVENT
UID:06fbd6bf-c2e9-4508-bd49-8e18f7722c5f@www.cozine.com
DTSTAMP:20260424T231029Z
DTSTART:20260503T180000Z
DTEND:20260503T220000Z
SUMMARY:Visitation with Family
DESCRIPTION:
URL:https://www.cozine.com/obituaries/tam-nguyen-2026
LOCATION:Cozine Life Events Center 11500 E. 21st St. N.  Wichita KS 67206
GEO:37.7243259;-97.2050381
END:VEVENT
END:VCALENDAR